BEGIN:VCALENDAR
VERSION:2.0
PRODID:-//eventon.com NONSGML v1.0//EN
CALSCALE:GREGORIAN
METHOD:PUBLISH
BEGIN:VEVENT
UID:69e73a7b75c8d
DTSTAMP:20260421T085107Z
DTSTART:20211212T213000Z
DTEND:20211213T003000Z
LOCATION:
SUMMARY:SNAAZ & Salvation Army Christmas Service Project
DESCRIPTION:We are excited to announce the 19th Annual SNAAZ/Salvation Army
  Christmas Service Project Join SNAAZ as we help Salvation Army at their Wa
 rehouse Christmas Angel Project Event. For more information contact Craig W
 eidel\,  SNAAZ Executive Director at cwsnaaz@gmail.com\nhttps://snaaz.org/e
 vents/snaaz-salvation-army-christmas-service-project/
URL:https://snaaz.org/events/snaaz-salvation-army-christmas-service-project/
END:VEVENT
END:VCALENDAR